BEGIN:VCALENDAR
PRODID:-//AT Content Types//AT Event//EN
VERSION:1.0
BEGIN:VEVENT
DTSTART:20210908T133000Z
DTEND:20210908T153000Z
DCREATED:20210906T154610Z
UID:ATEvent-38d85342f2cd4058a3e57f9514a8f4a6
SEQUENCE:0
LAST-MODIFIED:20210906T154635Z
SUMMARY:Presentazione di Connext 2021 a Bergamo
LOCATION:Bergamo
PRIORITY:3
TRANSP:0
END:VEVENT
END:VCALENDAR
