BEGIN:VCALENDAR
PRODID:-//AT Content Types//AT Event//EN
VERSION:2.0
METHOD:PUBLISH
BEGIN:VEVENT
DTSTAMP:20260424T052510Z
CREATED:20210902T162321Z
UID:ATEvent-c7c78b4a17944fb7b819a4006e0fdf3a
LAST-MODIFIED:20210906T152636Z
SUMMARY:Efficienza energetica: una leva per la competitività dell’azienda
DTSTART:20210909T130000Z
DTEND:20210909T160000Z
DESCRIPTION:1° incontro del percorso formativo gratuito di “Energy 
 management"
LOCATION:On line
CLASS:PUBLIC
END:VEVENT
END:VCALENDAR
