BEGIN:VCALENDAR
PRODID:-//AT Content Types//AT Event//EN
VERSION:2.0
METHOD:PUBLISH
BEGIN:VEVENT
DTSTAMP:20260422T155428Z
CREATED:20190527T130717Z
UID:ATEvent-b35447c741aa457c9ff2cfd684a46d45
LAST-MODIFIED:20190617T123309Z
SUMMARY:Progetto STEAMiamoci
DTSTART:20190606T163000Z
DTEND:20190606T183000Z
DESCRIPTION:Rassegna cinematografica 'Dove osano le donne'
LOCATION:Milano
CLASS:PUBLIC
END:VEVENT
END:VCALENDAR
