BEGIN:VCALENDAR
PRODID:-//AT Content Types//AT Event//EN
VERSION:2.0
METHOD:PUBLISH
BEGIN:VEVENT
DTSTAMP:20260424T074813Z
CREATED:20161018T154828Z
UID:ATEvent-8c80f61cec9f415797c35162ccb85c06
LAST-MODIFIED:20161018T154919Z
SUMMARY:IVA: tra novità e conferme
DTSTART:20161025T130000Z
DTEND:20161025T160000Z
LOCATION:Vigevano (PV)
CLASS:PUBLIC
END:VEVENT
END:VCALENDAR
