BEGIN:VCALENDAR
PRODID:-//AT Content Types//AT Event//EN
VERSION:2.0
METHOD:PUBLISH
BEGIN:VEVENT
DTSTAMP:20260421T082657Z
CREATED:20210929T213850Z
UID:ATEvent-18931881b72a4316b5eaaf4a4be4317b
LAST-MODIFIED:20210929T214218Z
SUMMARY:Green deal\, action plan e tassonomia europea degli investimenti sostenibili
DTSTART:20210930T130000Z
DTEND:20210930T160000Z
DESCRIPTION:4° incontro del percorso formativo gratuito di “Energy 
 management"
LOCATION:On line
CLASS:PUBLIC
END:VEVENT
END:VCALENDAR
