BEGIN:VCALENDAR
PRODID:-//AT Content Types//AT Event//EN
VERSION:2.0
METHOD:PUBLISH
BEGIN:VEVENT
DTSTAMP:20260424T052424Z
CREATED:20180704T133648Z
UID:ATEvent-32b288c977654d08afc87742c182f094
LAST-MODIFIED:20180716T135746Z
SUMMARY:Corso di formazione sulla comunicazione digitale
DTSTART:20180718T080000Z
DTEND:20180718T150000Z
DESCRIPTION:2° incontro: Integrazione online – offline: come utiliz
 zare i social media per promuovere e comunicare gli eventi
LOCATION:Milano
CLASS:PUBLIC
END:VEVENT
END:VCALENDAR
