BEGIN:VCALENDAR
PRODID:-//AT Content Types//AT Event//EN
VERSION:1.0
BEGIN:VEVENT
DTSTART:20210408T160000Z
DTEND:20210408T170000Z
DCREATED:20210406T151136Z
UID:ATEvent-575558e0d08649ab9b7436cfa96fd794
SEQUENCE:0
LAST-MODIFIED:20210406T151227Z
SUMMARY:Conversazioni sulla finanza - Quali agevolazioni per competere?
LOCATION:On line
PRIORITY:3
TRANSP:0
END:VEVENT
END:VCALENDAR
