BEGIN:VCALENDAR
PRODID:-//AT Content Types//AT Event//EN
VERSION:1.0
BEGIN:VEVENT
DTSTART:20190417T073000Z
DTEND:20190417T110000Z
DCREATED:20190410T201226Z
UID:ATEvent-83a9d874bbec490baa249dbd76a6cbd0
SEQUENCE:0
LAST-MODIFIED:20190410T201451Z
SUMMARY:Convegno MUD 2019
LOCATION:Bergamo
PRIORITY:3
TRANSP:0
END:VEVENT
END:VCALENDAR
