BEGIN:VCALENDAR
PRODID:-//AT Content Types//AT Event//EN
VERSION:2.0
METHOD:PUBLISH
BEGIN:VEVENT
DTSTAMP:20260423T215936Z
CREATED:20190121T154536Z
UID:ATEvent-8e52fbe5f4e9496697cdbc9089fe9e7c
LAST-MODIFIED:20190121T154554Z
SUMMARY:Convegno Focus On Youth: con gli ITS opportunità per giovani e imprese
DTSTART:20190129T090000Z
DTEND:20190129T113000Z
LOCATION:Milano
CLASS:PUBLIC
END:VEVENT
END:VCALENDAR
