BEGIN:VCALENDAR
PRODID:-//AT Content Types//AT Event//EN
VERSION:1.0
BEGIN:VEVENT
DTSTART:20210330T083000Z
DTEND:20210330T100000Z
DCREATED:20210324T215223Z
UID:ATEvent-076691e380d84c0ba8b9bbf3a1140efe
SEQUENCE:0
LAST-MODIFIED:20210324T215304Z
SUMMARY:Controllo di gestione nelle PMI: facciamo il punto
LOCATION:On line
PRIORITY:3
TRANSP:0
END:VEVENT
END:VCALENDAR
