BEGIN:VCALENDAR
PRODID:-//AT Content Types//AT Event//EN
VERSION:1.0
BEGIN:VEVENT
DTSTART:20160920T130000Z
DTEND:20160920T160000Z
DCREATED:20160915T164249Z
UID:ATEvent-732d3ab5330d441099d8a1f5661311bf
SEQUENCE:0
LAST-MODIFIED:20160915T164256Z
SUMMARY:Contributi regionali per l'efficienza energetica nelle imprese
LOCATION:Lecco
PRIORITY:3
TRANSP:0
END:VEVENT
END:VCALENDAR
