BEGIN:VCALENDAR
PRODID:-//AT Content Types//AT Event//EN
VERSION:2.0
METHOD:PUBLISH
BEGIN:VEVENT
DTSTAMP:20260422T142545Z
CREATED:20190529T154039Z
UID:ATEvent-524323f4ce884165b8ffee9add064f9e
LAST-MODIFIED:20190529T154107Z
SUMMARY:Contratti e recupero crediti all'estero: consulenze legali gratuite
DTSTART:20190607T080000Z
DTEND:20190607T153000Z
LOCATION:Cremona e Crema
CLASS:PUBLIC
END:VEVENT
END:VCALENDAR
