BEGIN:VCALENDAR
PRODID:-//AT Content Types//AT Event//EN
VERSION:2.0
METHOD:PUBLISH
BEGIN:VEVENT
DTSTAMP:20260425T115358Z
CREATED:20230704T141609Z
UID:ATEvent-303f9b0cbd874a26843a50238aa6dd04
LAST-MODIFIED:20230704T141628Z
SUMMARY:Contratti a tempo determinato: indicazioni operative
DTSTART:20230712T090000Z
DTEND:20230712T100000Z
LOCATION:On line
CLASS:PUBLIC
END:VEVENT
END:VCALENDAR
