BEGIN:VCALENDAR
PRODID:-//AT Content Types//AT Event//EN
VERSION:2.0
METHOD:PUBLISH
BEGIN:VEVENT
DTSTAMP:20260423T015421Z
CREATED:20231116T154454Z
UID:ATEvent-49c603ed66f84d9980ce13e16484941b
LAST-MODIFIED:20231116T154625Z
SUMMARY:Continua il tour di “Confindustria Varese in ascolto”
DTSTART:20231122T160000Z
DTEND:20231122T180000Z
DESCRIPTION:Seconda tappa l’area di Busto Arsizio
LOCATION:Busto Arsizio
CLASS:PUBLIC
END:VEVENT
END:VCALENDAR
