BEGIN:VCALENDAR
PRODID:-//AT Content Types//AT Event//EN
VERSION:1.0
BEGIN:VEVENT
DTSTART:20220627T150000Z
DTEND:20220627T173000Z
DCREATED:20220622T094226Z
UID:ATEvent-91f082c53a71484d961254852ca32536
SEQUENCE:0
LAST-MODIFIED:20220622T094229Z
SUMMARY:Contabilita’\, bilancio e «interpretazione dei numeri»
DESCRIPTION:Nuovo appuntamento del ciclo di incontri "Figli del Capo" 
 dedicato a figli di imprenditori.
LOCATION:Milano
PRIORITY:3
TRANSP:0
END:VEVENT
END:VCALENDAR
