BEGIN:VCALENDAR
PRODID:-//AT Content Types//AT Event//EN
VERSION:2.0
METHOD:PUBLISH
BEGIN:VEVENT
DTSTAMP:20260421T082432Z
CREATED:20210923T143207Z
UID:ATEvent-dfdd4b33d00143b0a3293756e8fe3761
LAST-MODIFIED:20210924T151233Z
SUMMARY:Consiglio di Presidenza - parte pubblica
DTSTART:20210930T123000Z
DTEND:20210930T143000Z
CLASS:PUBLIC
END:VEVENT
END:VCALENDAR
