BEGIN:VCALENDAR
PRODID:-//AT Content Types//AT Event//EN
VERSION:1.0
BEGIN:VEVENT
DTSTART:20190129T080000Z
DTEND:20190129T120000Z
DCREATED:20190121T163122Z
UID:ATEvent-6fcd621dd2a948ed962d9dff18aa6c85
SEQUENCE:0
LAST-MODIFIED:20190121T163217Z
SUMMARY:CONOU: workshop in AIB
LOCATION:Brescia
PRIORITY:3
TRANSP:0
END:VEVENT
END:VCALENDAR
