BEGIN:VCALENDAR
PRODID:-//AT Content Types//AT Event//EN
VERSION:2.0
METHOD:PUBLISH
BEGIN:VEVENT
DTSTAMP:20260423T210809Z
CREATED:20190520T161730Z
UID:ATEvent-bd8645a3e7144e068e56b8aa4f9bc2d7
LAST-MODIFIED:20190520T161735Z
SUMMARY:Connettersi aggregandosi!
DTSTART:20190530T133000Z
DTEND:20190530T163000Z
DESCRIPTION:Assemblea Piccola Industria AIB
LOCATION:Brescia
CLASS:PUBLIC
END:VEVENT
END:VCALENDAR
