BEGIN:VCALENDAR
PRODID:-//AT Content Types//AT Event//EN
VERSION:1.0
BEGIN:VEVENT
DTSTART:20171006T080000Z
DTEND:20171006T110000Z
DCREATED:20170925T124035Z
UID:ATEvent-2a7113ae0e974e9893c9cdff56caeb30
SEQUENCE:0
LAST-MODIFIED:20170925T124928Z
SUMMARY:Confindustria Bergamo e Elite-Borsa italiana
DESCRIPTION:Presentazione e firma del protocollo
LOCATION:Bergamo
PRIORITY:3
TRANSP:0
END:VEVENT
END:VCALENDAR
