BEGIN:VCALENDAR
PRODID:-//AT Content Types//AT Event//EN
VERSION:1.0
BEGIN:VEVENT
DTSTART:20160706T083000Z
DTEND:20160706T110000Z
DCREATED:20160623T151605Z
UID:ATEvent-a686722a0cc5435bbf88fa9e5abfc315
SEQUENCE:0
LAST-MODIFIED:20160623T151646Z
SUMMARY:ConfidiSystema! Si presenta
LOCATION:Mantova
PRIORITY:3
TRANSP:0
END:VEVENT
END:VCALENDAR
