BEGIN:VCALENDAR
PRODID:-//AT Content Types//AT Event//EN
VERSION:2.0
METHOD:PUBLISH
BEGIN:VEVENT
DTSTAMP:20260424T041505Z
CREATED:20150925T104854Z
UID:ATEvent-4fdbc7ddae574ed28e9189ec68bc3e81
LAST-MODIFIED:20150929T185520Z
SUMMARY:Conferenza Stampa - #MIT4LS2015
DTSTART:20150930T083000Z
DTEND:20150930T093000Z
LOCATION:Milano
CLASS:PUBLIC
END:VEVENT
END:VCALENDAR
