BEGIN:VCALENDAR
PRODID:-//AT Content Types//AT Event//EN
VERSION:2.0
METHOD:PUBLISH
BEGIN:VEVENT
DTSTAMP:20260424T134747Z
CREATED:20210715T102013Z
UID:ATEvent-6456840fb09c4fbead61b9e95fdb47b8
LAST-MODIFIED:20210719T142728Z
SUMMARY:Conferenza Stampa - Focus congiunturale: credito e finanza aziendale
DTSTART:20210729T093000Z
DTEND:20210729T103000Z
LOCATION:On line
CLASS:PUBLIC
END:VEVENT
END:VCALENDAR
