BEGIN:VCALENDAR
PRODID:-//AT Content Types//AT Event//EN
VERSION:1.0
BEGIN:VEVENT
DTSTART:20161109T100000Z
DTEND:20161109T120000Z
DCREATED:20161027T155306Z
UID:ATEvent-249396eeb57e4a13b39c57bc5de79dbe
SEQUENCE:0
LAST-MODIFIED:20161027T155410Z
SUMMARY:Conferenza stampa di presentazione del convegno “New Deals Sirmione 2016” | 18-19 novembre 2016
LOCATION:Milano
PRIORITY:3
TRANSP:0
END:VEVENT
END:VCALENDAR
