BEGIN:VCALENDAR
PRODID:-//AT Content Types//AT Event//EN
VERSION:2.0
METHOD:PUBLISH
BEGIN:VEVENT
DTSTAMP:20260421T135305Z
CREATED:20220721T154611Z
UID:ATEvent-a615fd2b98d34d44a3da59cc40d10024
LAST-MODIFIED:20220725T161913Z
SUMMARY:Conferenza stampa: Andamento imprese manifatturiere Lombardia 2° trimestre
DTSTART:20220728T093000Z
DTEND:20220728T103000Z
LOCATION:Milano  on line
CLASS:PUBLIC
END:VEVENT
END:VCALENDAR
