BEGIN:VCALENDAR
PRODID:-//AT Content Types//AT Event//EN
VERSION:1.0
BEGIN:VEVENT
DTSTART:20160728T093000Z
DTEND:20160728T110000Z
DCREATED:20160708T110155Z
UID:ATEvent-21d2a38630cd4073b7e19b0e9878f367
SEQUENCE:0
LAST-MODIFIED:20160727T150405Z
SUMMARY:Conferenza Stampa
LOCATION:Milano
PRIORITY:3
TRANSP:0
END:VEVENT
END:VCALENDAR
