BEGIN:VCALENDAR
PRODID:-//AT Content Types//AT Event//EN
VERSION:2.0
METHOD:PUBLISH
BEGIN:VEVENT
DTSTAMP:20260424T052250Z
CREATED:20240212T140655Z
UID:ATEvent-5a9db91ac8a44850bf44335fb9038e78
LAST-MODIFIED:20240212T155641Z
SUMMARY:Conferenza Stampa
DTSTART:20240222T110000Z
DTEND:20240222T115000Z
DESCRIPTION:Presentazione risultati analisi congiunturale dell’Indus
 tria e dell’Artigianato manifatturieri in Lombardia - inizio 2024
LOCATION:Milano
CLASS:PUBLIC
END:VEVENT
END:VCALENDAR
