BEGIN:VCALENDAR
PRODID:-//AT Content Types//AT Event//EN
VERSION:1.0
BEGIN:VEVENT
DTSTART:20231120T110000Z
DTEND:20231120T120000Z
DCREATED:20231114T145349Z
UID:ATEvent-659bb62d1be64515a8c168157026d76c
SEQUENCE:0
LAST-MODIFIED:20231117T091507Z
SUMMARY:Conferenza Stampa
DESCRIPTION:Presentazione risultati analisi congiunturale dell’Indus
 tria e dell’Artigianato manifatturieri in Lombardia - 3° trimestre 
 2023
LOCATION:Milano
PRIORITY:3
TRANSP:0
END:VEVENT
END:VCALENDAR
