BEGIN:VCALENDAR
PRODID:-//AT Content Types//AT Event//EN
VERSION:2.0
METHOD:PUBLISH
BEGIN:VEVENT
DTSTAMP:20260421T082405Z
CREATED:20180306T103048Z
UID:ATEvent-6e128e3ca1184577ba7958b069b367fb
LAST-MODIFIED:20180306T103115Z
SUMMARY:Conferenza Stampa
DTSTART:20180307T100000Z
DTEND:20180307T113000Z
LOCATION:Milano
CLASS:PUBLIC
END:VEVENT
END:VCALENDAR
