BEGIN:VCALENDAR
PRODID:-//AT Content Types//AT Event//EN
VERSION:2.0
METHOD:PUBLISH
BEGIN:VEVENT
DTSTAMP:20260422T175906Z
CREATED:20221003T125628Z
UID:ATEvent-5ad65bc3e62f4134b5fa5dfe38207715
LAST-MODIFIED:20221003T134427Z
SUMMARY:Conciliazione vita-lavoro\, D.Lgs. 105/2022 - Le novità in materia di congedi di maternità\, paternità\, congedo parentale e permessi Legge 104/92
DTSTART:20221007T080000Z
DTEND:20221007T093000Z
LOCATION:On line
CLASS:PUBLIC
END:VEVENT
END:VCALENDAR
