BEGIN:VCALENDAR
PRODID:-//AT Content Types//AT Event//EN
VERSION:2.0
METHOD:PUBLISH
BEGIN:VEVENT
DTSTAMP:20260424T083720Z
CREATED:20240214T154501Z
UID:ATEvent-6448d93b82d74fbeaed48d610df751ee
LAST-MODIFIED:20240214T154505Z
SUMMARY:Comunità energetiche rinnovabili e forme di autoconsumo diffuso
DTSTART:20240228T083000Z
DTEND:20240228T103000Z
LOCATION:Online
CLASS:PUBLIC
END:VEVENT
END:VCALENDAR
