BEGIN:VCALENDAR
PRODID:-//AT Content Types//AT Event//EN
VERSION:2.0
METHOD:PUBLISH
BEGIN:VEVENT
DTSTAMP:20260424T111403Z
CREATED:20230309T083108Z
UID:ATEvent-be591672c7c94150bdd9d797d07001f3
LAST-MODIFIED:20230330T074612Z
SUMMARY:Comunità energetiche come leva per un futuro sostenibile
DTSTART:20230404T083000Z
DTEND:20230404T110000Z
DESCRIPTION:Come le Comunità Energetiche possono essere una leva fond
 amentale per la transizione verso un futuro più sostenibile.
LOCATION:Milano
CLASS:PUBLIC
END:VEVENT
END:VCALENDAR
