BEGIN:VCALENDAR
PRODID:-//AT Content Types//AT Event//EN
VERSION:1.0
BEGIN:VEVENT
DTSTART:20230531T150000Z
DTEND:20230531T163000Z
DCREATED:20230522T135915Z
UID:ATEvent-9ebe5a8a77a74be9b2b9278a78e9d145
SEQUENCE:0
LAST-MODIFIED:20230529T082038Z
SUMMARY:Competenze manageriali per la resilienza delle PMI
DESCRIPTION:I risultati di una ricerca promossa da Assolombarda e ALDA
 I-Federmanager
LOCATION:Monza
PRIORITY:3
TRANSP:0
END:VEVENT
END:VCALENDAR
