BEGIN:VCALENDAR
PRODID:-//AT Content Types//AT Event//EN
VERSION:1.0
BEGIN:VEVENT
DTSTART:20250213T133000Z
DTEND:20250213T160000Z
DCREATED:20250128T091801Z
UID:ATEvent-9c4e5c71bbea4bdca9cdd1f9a65b9e79
SEQUENCE:0
LAST-MODIFIED:20250128T104701Z
SUMMARY:Competenze e strategie per il people management
DESCRIPTION:Presentazione del Report realizzato attraverso survey\, fo
 cus group e interviste che hanno coinvolto imprenditori\, dirigenti e 
 manager del territorio.
LOCATION:Milano
PRIORITY:3
TRANSP:0
END:VEVENT
END:VCALENDAR
