BEGIN:VCALENDAR
PRODID:-//AT Content Types//AT Event//EN
VERSION:2.0
METHOD:PUBLISH
BEGIN:VEVENT
DTSTAMP:20260419T212638Z
CREATED:20221028T133803Z
UID:ATEvent-4678bd1433bb449dafba6911be095271
LAST-MODIFIED:20221110T164355Z
SUMMARY:Comparto vitivinicolo e valorizzazione del Made in Italy all’estero
DTSTART:20221115T150000Z
DTEND:20221115T170000Z
LOCATION:Pavia
CLASS:PUBLIC
END:VEVENT
END:VCALENDAR
