BEGIN:VCALENDAR
PRODID:-//AT Content Types//AT Event//EN
VERSION:1.0
BEGIN:VEVENT
DTSTART:20240313T143000Z
DTEND:20240313T163000Z
DCREATED:20240228T135929Z
UID:ATEvent-abbab02d60d341119a61238fed0ea386
SEQUENCE:0
LAST-MODIFIED:20240228T140124Z
SUMMARY:Community H.R.M. - Vincitori e Vincenti: in dialogo con Pasquale Gravina
LOCATION:Brescia
PRIORITY:3
TRANSP:0
END:VEVENT
END:VCALENDAR
