BEGIN:VCALENDAR
PRODID:-//AT Content Types//AT Event//EN
VERSION:1.0
BEGIN:VEVENT
DTSTART:20160624T073000Z
DTEND:20160624T110000Z
DCREATED:20160613T150018Z
UID:ATEvent-16ae59f860654bc4ba1a87779f9a4bec
SEQUENCE:0
LAST-MODIFIED:20160613T150026Z
SUMMARY:Come misurare i consumi nelle prossime diagnosi?
DESCRIPTION:Incontro tecnico sull'attuazione del Decreto 102/2014 orga
 nizzato in collaborazione con ENEA.
LOCATION:Milano
PRIORITY:3
TRANSP:0
END:VEVENT
END:VCALENDAR
