BEGIN:VCALENDAR
PRODID:-//AT Content Types//AT Event//EN
VERSION:1.0
BEGIN:VEVENT
DTSTART:20160920T150000Z
DTEND:20160920T170000Z
DCREATED:20160907T134406Z
UID:ATEvent-b355a9f60a0c44988b10951df528b2e8
SEQUENCE:0
LAST-MODIFIED:20160907T134717Z
SUMMARY:Come finanziare lo sviluppo della tua azienda
LOCATION:Milano
PRIORITY:3
TRANSP:0
END:VEVENT
END:VCALENDAR
