BEGIN:VCALENDAR
PRODID:-//AT Content Types//AT Event//EN
VERSION:1.0
BEGIN:VEVENT
DTSTART:20230928T073000Z
DTEND:20230928T083000Z
DCREATED:20230922T145645Z
UID:ATEvent-19576f7beb214be5a1ebd57906b03548
SEQUENCE:0
LAST-MODIFIED:20230926T101133Z
SUMMARY:Come finanziare la formazione: Gli strumenti a disposizione delle imprese
LOCATION:Online
PRIORITY:3
TRANSP:0
END:VEVENT
END:VCALENDAR
