BEGIN:VCALENDAR
PRODID:-//AT Content Types//AT Event//EN
VERSION:2.0
METHOD:PUBLISH
BEGIN:VEVENT
DTSTAMP:20260424T070232Z
CREATED:20190603T151704Z
UID:ATEvent-428d631a59bf47e79dbd16f268522f33
LAST-MODIFIED:20190603T151715Z
SUMMARY:Come esportare e distribuire i prodotti alimentari in Cina
DTSTART:20190618T070000Z
DTEND:20190618T090000Z
DESCRIPTION:Secondo appuntamento dei "Chinese Breakfast" organizzati d
 a Assolombarda in videocollegamento con l'Ambasciata d'Italia a Pechin
 o
LOCATION:Milano
CLASS:PUBLIC
END:VEVENT
END:VCALENDAR
