BEGIN:VCALENDAR
PRODID:-//AT Content Types//AT Event//EN
VERSION:1.0
BEGIN:VEVENT
DTSTART:20240229T100000Z
DTEND:20240229T113000Z
DCREATED:20240219T130302Z
UID:ATEvent-8df084e473834be59dfe2b06d658ab45
SEQUENCE:0
LAST-MODIFIED:20240219T130607Z
SUMMARY:Come dare valore alla formazione: offerta\, opportunità e cataloghi di Servizi Confindustria Varese
LOCATION:Online
PRIORITY:3
TRANSP:0
END:VEVENT
END:VCALENDAR
