BEGIN:VCALENDAR
PRODID:-//AT Content Types//AT Event//EN
VERSION:2.0
METHOD:PUBLISH
BEGIN:VEVENT
DTSTAMP:20260424T052250Z
CREATED:20161109T162724Z
UID:ATEvent-c05b95abd6cb4a6f8248a387f1926d4e
LAST-MODIFIED:20161109T162744Z
SUMMARY:Colombia: un nuovo Eldorado?
DTSTART:20161123T150000Z
DTEND:20161123T170000Z
DESCRIPTION:Opportunità di business in America Latina.
LOCATION:Monza
CLASS:PUBLIC
END:VEVENT
END:VCALENDAR
