BEGIN:VCALENDAR
PRODID:-//AT Content Types//AT Event//EN
VERSION:1.0
BEGIN:VEVENT
DTSTART:20240122T090000Z
DTEND:20240122T103000Z
DCREATED:20231212T155520Z
UID:ATEvent-f83e029ada2645dd8813deefadb1dd2d
SEQUENCE:0
LAST-MODIFIED:20231212T155544Z
SUMMARY:Collocamento dei lavoratori disabili\, obblighi del datore di lavoro e incentivi per le imprese
DESCRIPTION:Analisi della normativa di riferimento.
LOCATION:Online
PRIORITY:3
TRANSP:0
END:VEVENT
END:VCALENDAR
