BEGIN:VCALENDAR
PRODID:-//AT Content Types//AT Event//EN
VERSION:1.0
BEGIN:VEVENT
DTSTART:20190122T090000Z
DTEND:20190122T113000Z
DCREATED:20190121T145418Z
UID:ATEvent-b496ce0820684c84a5bf9096639b21cc
SEQUENCE:0
LAST-MODIFIED:20190121T145434Z
SUMMARY:Collocamento al lavoro del disabile e modalità di assolvimento dell'obbligo
LOCATION:Cremona
PRIORITY:3
TRANSP:0
END:VEVENT
END:VCALENDAR
