BEGIN:VCALENDAR
PRODID:-//AT Content Types//AT Event//EN
VERSION:1.0
BEGIN:VEVENT
DTSTART:20171005T143000Z
DTEND:20171005T163000Z
DCREATED:20170927T154114Z
UID:ATEvent-e0e4eb9beb6b432ebe9103bfb10270a8
SEQUENCE:0
LAST-MODIFIED:20170927T154221Z
SUMMARY:Cogenerazione ad alto rendimento
DESCRIPTION:risparmio\, efficientamento e salvaguardia ambientale
LOCATION:Cremona
PRIORITY:3
TRANSP:0
END:VEVENT
END:VCALENDAR
