BEGIN:VCALENDAR
PRODID:-//AT Content Types//AT Event//EN
VERSION:1.0
BEGIN:VEVENT
DTSTART:20231122T140000Z
DTEND:20231122T152000Z
DCREATED:20231108T151927Z
UID:ATEvent-103b5e789a524d1f843e3460687132ba
SEQUENCE:0
LAST-MODIFIED:20231109T161059Z
SUMMARY:Cluster SCC | Evento presentazione progetti ambito idrogeno
LOCATION:Milano e Online
PRIORITY:3
TRANSP:0
END:VEVENT
END:VCALENDAR
