BEGIN:VCALENDAR
PRODID:-//AT Content Types//AT Event//EN
VERSION:1.0
BEGIN:VEVENT
DTSTART:20240312T140000Z
DTEND:20240312T160000Z
DCREATED:20240227T134945Z
UID:ATEvent-683f61cb227740b59fc4c607c5eb178c
SEQUENCE:0
LAST-MODIFIED:20240227T135056Z
SUMMARY:Club Dei Managers Hr – Incontro: Indagine Retributiva Del Sistema Territoriale Di Confindustria
LOCATION:Cremona
PRIORITY:3
TRANSP:0
END:VEVENT
END:VCALENDAR
