BEGIN:VCALENDAR
PRODID:-//AT Content Types//AT Event//EN
VERSION:2.0
METHOD:PUBLISH
BEGIN:VEVENT
DTSTAMP:20260425T185936Z
CREATED:20230626T154836Z
UID:ATEvent-1a0df7ec08a74fb5a9d65e0fb8cbbe76
LAST-MODIFIED:20230626T154939Z
SUMMARY:City'scape 2023
DTSTART:20230706T113000Z
DTEND:20230707T170000Z
DESCRIPTION:Simposio internazionale patrocinato da Confindustria Lomba
 rdia.
LOCATION:Milano
CLASS:PUBLIC
END:VEVENT
END:VCALENDAR
