BEGIN:VCALENDAR
PRODID:-//AT Content Types//AT Event//EN
VERSION:2.0
METHOD:PUBLISH
BEGIN:VEVENT
DTSTAMP:20260425T124926Z
CREATED:20160906T140027Z
UID:ATEvent-74d28ff11fc74ecfa24cb0b7f8f15b4a
LAST-MODIFIED:20160906T141827Z
SUMMARY:Cina
DTSTART:20160915T070000Z
DTEND:20160915T110000Z
DESCRIPTION:prospettive a opportunità di sviluppo per le imprese che 
 operano nella Green Economy
LOCATION:Milano
CLASS:PUBLIC
END:VEVENT
END:VCALENDAR
