BEGIN:VCALENDAR
PRODID:-//AT Content Types//AT Event//EN
VERSION:2.0
METHOD:PUBLISH
BEGIN:VEVENT
DTSTAMP:20260422T191210Z
CREATED:20221003T132514Z
UID:ATEvent-0d8c915f51314ee5b38a29b934f5db09
LAST-MODIFIED:20221003T141312Z
SUMMARY:Cina: quali scenari dopo il congresso di ottobre?
DTSTART:20221007T090000Z
DTEND:20221007T100000Z
LOCATION:On line
CLASS:PUBLIC
END:VEVENT
END:VCALENDAR
