BEGIN:VCALENDAR
PRODID:-//AT Content Types//AT Event//EN
VERSION:2.0
METHOD:PUBLISH
BEGIN:VEVENT
DTSTAMP:20260421T133737Z
CREATED:20170404T100500Z
UID:ATEvent-83e108c282614dbd94706e1273571921
LAST-MODIFIED:20170404T100545Z
SUMMARY:Cina: Incontri B2B per PMI italiane (Pechino 15-16 maggio)
DTSTART:20170410T060000Z
DTEND:20170410T160000Z
DESCRIPTION:Scadenza iscrizioni
LOCATION:Pechino - Cina
CLASS:PUBLIC
END:VEVENT
END:VCALENDAR
